BEGIN:VCALENDAR
VERSION:2.0
PRODID:-//ÖGAM - ECPv6.15.20//NONSGML v1.0//EN
CALSCALE:GREGORIAN
METHOD:PUBLISH
X-ORIGINAL-URL:https://oegam.at
X-WR-CALDESC:Veranstaltungen für ÖGAM
REFRESH-INTERVAL;VALUE=DURATION:PT1H
X-Robots-Tag:noindex
X-PUBLISHED-TTL:PT1H
BEGIN:VTIMEZONE
TZID:Europe/Vienna
BEGIN:DAYLIGHT
TZOFFSETFROM:+0100
TZOFFSETTO:+0200
TZNAME:CEST
DTSTART:20240331T010000
END:DAYLIGHT
BEGIN:STANDARD
TZOFFSETFROM:+0200
TZOFFSETTO:+0100
TZNAME:CET
DTSTART:20241027T010000
END:STANDARD
BEGIN:DAYLIGHT
TZOFFSETFROM:+0100
TZOFFSETTO:+0200
TZNAME:CEST
DTSTART:20250330T010000
END:DAYLIGHT
BEGIN:STANDARD
TZOFFSETFROM:+0200
TZOFFSETTO:+0100
TZNAME:CET
DTSTART:20251026T010000
END:STANDARD
BEGIN:DAYLIGHT
TZOFFSETFROM:+0100
TZOFFSETTO:+0200
TZNAME:CEST
DTSTART:20260329T010000
END:DAYLIGHT
BEGIN:STANDARD
TZOFFSETFROM:+0200
TZOFFSETTO:+0100
TZNAME:CET
DTSTART:20261025T010000
END:STANDARD
BEGIN:DAYLIGHT
TZOFFSETFROM:+0100
TZOFFSETTO:+0200
TZNAME:CEST
DTSTART:20270328T010000
END:DAYLIGHT
BEGIN:STANDARD
TZOFFSETFROM:+0200
TZOFFSETTO:+0100
TZNAME:CET
DTSTART:20271031T010000
END:STANDARD
BEGIN:DAYLIGHT
TZOFFSETFROM:+0100
TZOFFSETTO:+0200
TZNAME:CEST
DTSTART:20280326T010000
END:DAYLIGHT
BEGIN:STANDARD
TZOFFSETFROM:+0200
TZOFFSETTO:+0100
TZNAME:CET
DTSTART:20281029T010000
END:STANDARD
END:VTIMEZONE
BEGIN:VEVENT
DTSTART;TZID=Europe/Vienna:20251113T000000
DTEND;TZID=Europe/Vienna:20270117T235959
DTSTAMP:20260420T145430
CREATED:20251113T091230Z
LAST-MODIFIED:20260314T224035Z
UID:8855-1762992000-1800230399@oegam.at
SUMMARY:ÖÄK-Diplomlehrgang Psychosoziale Medizin (Psy1)
DESCRIPTION:Veranstalter: ÖAGG (Österreichischer Arbeitskreis für Gruppentherapie und Gruppendynamik) \n\n\n\nTermine:10.09. bis 13.09.2026 (Donnerstag bis Sonntag)07.11. bis 08.11.2026 (Samstag und Sonntag)16.01. bis 17.01.2027 (Samstag und Sonntag) \n\n\n\nOrt:Naturhotel Steinschalerhof Warth 203203 Rabensteinwww.steinschaler.at \n\n\n\nTeilnahmegebührEUR 1.480\,- Die Kosten für das Naturhotel sind vor Ort zu begleichenInformationen und AnmeldungE-Mail: psy-diplome(at)oeagg.at \n\n\n\nWeb: www.psydiplome.infoLehrgangsleitung:Dr. med. Eva PerikMobil: +43 676 44 83 263
URL:https://oegam.at/veranstaltungen/oeaek-diplomlehrgang-psychosoziale-medizin-psy1/
END:VEVENT
BEGIN:VEVENT
DTSTART;TZID=Europe/Vienna:20260601T173000
DTEND;TZID=Europe/Vienna:20260601T200000
DTSTAMP:20260420T145430
CREATED:20260408T090803Z
LAST-MODIFIED:20260408T090805Z
UID:9197-1780335000-1780344000@oegam.at
SUMMARY:Zukunft Gesundheit - Mehr Vorsorge. Mehr Zukunft.
DESCRIPTION:Einladung zum nächsten Expert:innen-Dialog aus der Reihe ZUKUNFT GESUNDHEIT mit dem Thema: MEHR VORSORGE. MEHR ZUKUNFT – Ist die Vorsorgeuntersuchung stärkste Reformkraft der nächsten Dekade? \n\n\n\nSeit 1974 fixer Bestandteil der österreichischen Gesundheitsversorgung\, wird die Vorsorgeuntersuchung bis heute nur von einem Bruchteil der Bevölkerung genutzt. Denn auch wenn Vorsorge oft als Schlüssel für ein zukunftsfähiges Gesundheitssystem diskutiert wird\, spielt sie in der Praxis nur eine untergeordnete Rolle. Im Rahmen der Diskussionsreihe “zukunft gesundheit” diskutieren wir daher\, welche Hürden bestehen\, wie Anreizsysteme wirken können und wie Vorsorgeprogramme das Gesundheitssystem nachhaltig entlasten können. (Quelle: Zukunft Gesundheit | Mehr Vorsorge. Mehr Zukunft. | 2026-06-01) \n\n\n\nWann: 01. Juni 2026\, ab 17:30Wo: Factory im Künstlerhaus\, Karlsplatz 5\, 1010 Wien \n\n\n\nAnmeldung ist ab sofort möglich. \n\n\n\n\nWeitere Informationen & Anmeldung
URL:https://oegam.at/veranstaltungen/zukunft-gesundheit-mehr-vorsorge-mehr-zukunft/
END:VEVENT
BEGIN:VEVENT
DTSTART;TZID=Europe/Vienna:20260612T000000
DTEND;TZID=Europe/Vienna:20260613T235959
DTSTAMP:20260420T145430
CREATED:20260210T081624Z
LAST-MODIFIED:20260210T081627Z
UID:9056-1781222400-1781395199@oegam.at
SUMMARY:ÖGUM Sommer Symposium
DESCRIPTION:Einladung zum ersten nationalen Sommersymposium der ÖGUM (Österreichische Gesellschaft für Ultraschall in der Medizin) \n\n\n\nDie Veranstaltung bietet erfahrenen Ultraschall-Anwender:innen ein kompaktes Update zu praxisrelevanten Themen und ein kompaktes Update zu aktuellen Entwicklungen. \n\n\n\nDas Symposium bietet zwei Themenschienen\, die unterschiedliche Ultraschallbereiche abdecken. Dieses Mal steht einerseits die Abdomensonographie und andererseits die Sonographie in der Allgemeinmedizin im Fokus. In der klinischen Routine erfahrene und in der ÖGUM zertifizierte Vortragende bringen neue Entwicklungen in bekannten Bereichen und erste Erfahrungen in neuen Untersuchungsmöglichkeiten. Fallbeispiele verdeutlichen die Relevanz. \n\n\n\nThema 1: Ultraschall in der ärztlichen Praxis \n\n\n\nDiese Schiene richtet sich an Ärztinnen und Ärzte mit Grundkenntnissen in der Sonographie. Im Mittelpunkt stehen praxisrelevante Anwendungen für den gezielten und effektiven Einsatz des Ultraschalls. \n\n\n\n • Notfallsonographie • Thoraxsonographie • Gefäßdiagnostik • Abdomen • Urogenitalsystem  \n\n\n\nThema 2: Spezialisierter Abdomenultraschall  \n\n\n\nDiese Schiene richtet sich an Anwender:innen der abdominellen Sonographie mit bereits vorhandenen Grundkenntnissen. Bekannte Themen werden vertieft und aktuelle Entwicklungen vorgestellt: • Fokale und diffuse Leberveränderungen  • CEUS • Darmsonographie • Interventionelle Verfahren unter Ultraschallkontrolle  \n\n\n\n\nWeitere Informationen & Anmeldung
URL:https://oegam.at/veranstaltungen/oegum-sommer-symposium/
END:VEVENT
BEGIN:VEVENT
DTSTART;TZID=Europe/Vienna:20260626T150000
DTEND;TZID=Europe/Vienna:20260627T170000
DTSTAMP:20260420T145430
CREATED:20260226T053531Z
LAST-MODIFIED:20260419T080526Z
UID:9115-1782486000-1782579600@oegam.at
SUMMARY:ÖGAM Sommerkongress 2026
DESCRIPTION:Nach einem erfolgreichen Fachtag 2024 wird unser Fortbildungsformat für Ostösterreich dieses Jahr erweitert: Am Freitag 26. Juni werden wir einen Ausbildungsschwerpunkt setzen\, inklusive Informationen zur neuen Facharztausbildung\, kompetenzbasierter Ausbildung\, Lehrpraxisleiterseminar und Qualitätszirkel für bestehende Lehrpraxisleiter. \n\n\n\nAm Samstag 27. Juni gibt es neben den Vorträgen für Ärzt:innen auch einen zusätzlichen Track für Ordinations-Teams\, in denen Themen wie Wundversorgung\, DMP-Diabetes oder Kommunikation praxisnah geschult werden. \n\n\n\nVorläufiges Programm\n\n\n\nFreitag\, 26. Juni 2026 – Schwerpunktnachmittag Ausbildung\n\n\n\n\n15:00 Uhr: Registrierung\, Ankommen\n\n\n\n15:15 – 15:30 Uhr: Einblick in die Fachärzt:innenausbildung Allgemein- und Familienmedizin – Ablauf\, Rasterzeugnisse\, Prüfung (Sebastian Huter)\n\n\n\n15:30 – 17:00 Uhr: Parallel Sessions 1\n\nLehrpraxisleiter:innen-Seminar – Teil 1 (Herbert Bachler et al)\n\n\n\nBesser als Rasterzeugnisse? Entrustable professional activities zur Kompetenzbeurteilung von Auszubildenden (t.b.a.)\n\n\n\n\n\n17:00 Uhr – 17:30 Uhr: Pause\n\n\n\n17:30 – 19:00 Uhr: Parallel Sessions 1\n\nWie geht’s uns mit der Ausbildung – Qualitätszirkel für Lehrpraxisleiter:innen (t.b.a.)\n\n\n\nWie geht’s uns in der Ausbildung – Qualitätszirkel für Turnusärzt:innen (Schwerpunkt Lehrpraxis) (Angela Kogler\, Richard Brodnig)\n\n\n\nLehrpraxisleiter:innen-Seminar – Teil 2 (Herbert Bachler et al) \n\n\n\n\n\n\n \n\n\n\nSamstag\, 27. Juni 2026 – Vormittag\n\n\n\n\n08:30 Uhr – Eintreffen und Registrierung\n\n\n\n09:00 – 9:15 Uhr: Eröffnung und Begrüßung (Dr. Peter Kowatsch\, Präsident der Österreichischen Gesellschaft für Allgemein- und Familienmedizin)\n\n\n\n9:15 Uhr – Praxis-Innovationen\n\nKI gestützte Abklärung von Hautläsionen – ein Erfahrungsbericht aus der Hausarztpraxis.(Sebastian Poglitsch)\n\n\n\nWie werde ich Penicillinallergien wieder los? Evidenzbasiertes Delabeling in der Allgemeinmedizin.(Clemens Vanicek)\n\n\n\nChronic Kidney Injury – Praktische Hilfestellung für die hausärztliche Versorgung. (t.b.a.)\n\n\n\nPostakute Infektionssyndrome – Pragmatische Herangehensweise in der Kassenpraxis. (t.b.a)\n\n\n\n\n\n10:45 Uhr – Kaffeepause\n\n\n\n11:00 Uhr – Basics der Dermatoskopie (t.b.a.)\n\n\n\n11:45 Uhr – Versorgungsperspektiven\n\nProjekt zur Verbesserung der Endometriose-Versorgung in Wien. Melanie Hobik\n\n\n\nKontinuität in Zeiten großer Versorgungsstrukturen. Erika Zelko\n\n\n\nPublikumsdiskussion zu Kontinuität\n\n\n\n\n\n12:30 – 13:30 Uhr – Mittagspause mit warmem Buffet\n\n\n\n\n\n13:30 Uhr – Proktologie (t.b.a.)\n\n\n\n14:15 Uhr – Verdauungsstörungen (t.b.a.)\n\n\n\n15:00 Uhr – Kaffeepause\n\n\n\n15:15 Uhr – Die Fachgesellschaft im Spannungsfeld von Gesundheitssystem\, Wissenschaft und Praxisrealität. Peter Kowatsch\n\n\n\n16:00 Uhr – Psychiatrische Erstversorgung – Allgemeinmedizin und Psychiatrie im Dialog. Julia Schmatzer\, Rosemarie Poglitsch-Marksteiner\n\n\n\n16:45 Uhr – Ausklang und Networking\n\n\n\n\n \n\n\n\nProgramm für Ordinations-Teams (Samstag)\n\n\n\n\n08:30 Uhr: Eintreffen und Registrierung\n\n\n\n09:00 Uhr: Begrüßung \n\n\n\n9:15 Uhr: Wundmanagement in der Ordination. Barbara Tod\, DGKP\n\n\n\n10:45 Uhr: Kaffeepause\n\n\n\n11:00 Uhr: Therapie Aktiv – Strukturierte Untersuchung im Rahmen des Disease Managament Programms Diabetes (t.b.a.)\n\n\n\n12:30 Uhr: Mittagspause mit warmem Buffet\n\n\n\n13:30 Uhr: Telefonieren (t.b.a.)\n\n\n\n15:00 Uhr: Kaffeepause\n\n\n\n15:15 Uhr: Medikamentenkunde für Ordinationsassistenz (Erika Zelko)\n\n\n\n16:45 Uhr: Ausklang und Networking\n\n\n\n\n \n\n\n\nTeilnahmegebühren\n\n\n\n Frühbucher(bis 30.4.)Standard (ab 1.5.)Online–Teilnahme1Normaltarif140\,-160\,-100\,-ÖGAM-Mitglieder90\,-110\,-50\,-Ordi-Teams50\,-50\,-n.v.Studierende50\,-50\,-20\,-Lehrpraxisleiterseminar225\,-n.v.\n\n\n\n1) eine Online-Teilnahme ist nur beim Ärzt:innenblock für Samstag 27.6. vorgesehen. 2) Das Lehrpraxisleiterseminar kann auch seperat ohne sonstige Kongressteilnahme gebucht werden. \n\n\n\nAnmeldung \n\n\n\nSehen Sie kein Anmeldeformular? Dann klicken Sie bitte hier. \n\n\n\n\n\n\n\n\nAllgemeine GeschäftsbedingungenHerunterladen
URL:https://oegam.at/veranstaltungen/oegam-sommerkongress-2026/
LOCATION:Dachverband der Sozialversicherungsträger\, Kundmanngasse 21\, Wien\, 1030\, Austria
ORGANIZER;CN="%C3%96GAM":MAILTO:office@oegam.at
END:VEVENT
BEGIN:VEVENT
DTSTART;TZID=Europe/Vienna:20260630T000000
DTEND;TZID=Europe/Vienna:20260703T235959
DTSTAMP:20260420T145430
CREATED:20260218T125734Z
LAST-MODIFIED:20260312T130936Z
UID:9088-1782777600-1783123199@oegam.at
SUMMARY:30. WONCA EUROPE CONFERENCE 2026
DESCRIPTION:Wo: Paris\, FrankreichWann: 30.06.2026 – 03.07.2026 \n\n\n\nHier ist wieder die Gelegenheit WONCA Europe und seine Netzwerke kennenzulernen: \n\n\n\n\nEGPRN – Forschung\n\n\n\nEQuiP – Qualität\n\n\n\nEURACT – Lehre\n\n\n\nEURIPA – ländliche Medizin\n\n\n\nEUROPREV – Prävention\n\n\n\nEYFDM – junge Ärztinnen und Ärzte\n\n\n\n\n \n\n\n\nEs erwartet Sie eine zweisprachige Konferenz (Französisch und Englisch). \n\n\n\nAlle Informationen finden Sie auf der Homepage
URL:https://oegam.at/veranstaltungen/30-wonca-europe-cenference-2026/
END:VEVENT
END:VCALENDAR