BEGIN:VCALENDAR
VERSION:2.0
PRODID:-//ÖGAM - ECPv6.15.20//NONSGML v1.0//EN
CALSCALE:GREGORIAN
METHOD:PUBLISH
X-ORIGINAL-URL:https://oegam.at
X-WR-CALDESC:Veranstaltungen für ÖGAM
REFRESH-INTERVAL;VALUE=DURATION:PT1H
X-Robots-Tag:noindex
X-PUBLISHED-TTL:PT1H
BEGIN:VTIMEZONE
TZID:Europe/Vienna
BEGIN:DAYLIGHT
TZOFFSETFROM:+0100
TZOFFSETTO:+0200
TZNAME:CEST
DTSTART:20240331T010000
END:DAYLIGHT
BEGIN:STANDARD
TZOFFSETFROM:+0200
TZOFFSETTO:+0100
TZNAME:CET
DTSTART:20241027T010000
END:STANDARD
BEGIN:DAYLIGHT
TZOFFSETFROM:+0100
TZOFFSETTO:+0200
TZNAME:CEST
DTSTART:20250330T010000
END:DAYLIGHT
BEGIN:STANDARD
TZOFFSETFROM:+0200
TZOFFSETTO:+0100
TZNAME:CET
DTSTART:20251026T010000
END:STANDARD
BEGIN:DAYLIGHT
TZOFFSETFROM:+0100
TZOFFSETTO:+0200
TZNAME:CEST
DTSTART:20260329T010000
END:DAYLIGHT
BEGIN:STANDARD
TZOFFSETFROM:+0200
TZOFFSETTO:+0100
TZNAME:CET
DTSTART:20261025T010000
END:STANDARD
END:VTIMEZONE
BEGIN:VEVENT
DTSTART;TZID=Europe/Vienna:20250606T140000
DTEND;TZID=Europe/Vienna:20250606T193000
DTSTAMP:20260425T001527
CREATED:20250320T110403Z
LAST-MODIFIED:20250325T212927Z
UID:8074-1749218400-1749238200@oegam.at
SUMMARY:TGAM-Experten-Meeting 2025
DESCRIPTION:Primärversorgung in Tirol: Chancen und Herausforderungen der verschiedenen Versorgungsformen\n\n\n\n\n\nAm Freitag\, 06. 06. 2025\, lädt die TGAM (Tiroler Gesellschaft für Allgemeinmedizin) nach längerer Pause wieder zu einem Experten-Meeting ein. \n\n\n\nBeginn ist um 14 Uhr\, Veranstaltungsort ist die Tiroler Ärztekammer in der Innsbrucker Anichstraße. Die Fortbildung ist mit 9 Punkten für das DFP approbiert; TGAM-Mitglieder können kostenlos teilnehmen. Ausführliche Informationen im Programm.
URL:https://oegam.at/veranstaltungen/tgam-experten-meeting-2025/
END:VEVENT
BEGIN:VEVENT
DTSTART;TZID=Europe/Vienna:20250613T000000
DTEND;TZID=Europe/Vienna:20250614T235959
DTSTAMP:20260425T001527
CREATED:20250506T062542Z
LAST-MODIFIED:20250506T062545Z
UID:8256-1749772800-1749945599@oegam.at
SUMMARY:Infiltrationsworkshop der STAFAM
DESCRIPTION:Wenn Sie Scheu haben zu infiltrieren\, weil Sie sich über die Nadellage unsicher sind und nicht genau wissen\, wo sich die Nadelspitze befinden soll\, ist dies die beste Gelegenheit es am anatomischen Präparat zu üben. \n\n\n\nTheoretischer Teil mit praktischen ÜbungenPraktischer Teil mit Übungen an der LeicheDatum13.06.2025\, 16.00 – 19.0014.06.2025\, 08.00 – 17.00OrtSteirische Akademie für AllgemeinmedizinPestalozzistraße 628010 GrazInstitut für Anatomie\, Med. Uni Graz\, Auenbruggerplatz 25\, 8036 Graz\n\n\n\nWeitere Informationen finden Sie auf unserer Website. \n\n\n\nAnmeldung mit vollständigen Namen\, Adresse\, Telefonnummer und ÖÄK-Nummer per E-Mail an:corina.faullend@stafam.at \n\n\n\nAchtung: Bei diesem Workshop gibt es eine Teilnahmebegrenzung\, max. 30 Teilnehmer:innen davon max. 5 Turnusärzt:innen\, wir bitten um Ihr Verständnis. \n\n\n\nProgramm-Infiltrationsworkshop-13-14.6Herunterladen
URL:https://oegam.at/veranstaltungen/infiltrationsworkshop-der-stafam/
END:VEVENT
END:VCALENDAR