BEGIN:VCALENDAR
VERSION:2.0
PRODID:-//ÖGAM - ECPv6.15.20//NONSGML v1.0//EN
CALSCALE:GREGORIAN
METHOD:PUBLISH
X-WR-CALNAME:ÖGAM
X-ORIGINAL-URL:https://oegam.at
X-WR-CALDESC:Veranstaltungen für ÖGAM
REFRESH-INTERVAL;VALUE=DURATION:PT1H
X-Robots-Tag:noindex
X-PUBLISHED-TTL:PT1H
BEGIN:VTIMEZONE
TZID:Europe/Vienna
BEGIN:DAYLIGHT
TZOFFSETFROM:+0100
TZOFFSETTO:+0200
TZNAME:CEST
DTSTART:20240331T010000
END:DAYLIGHT
BEGIN:STANDARD
TZOFFSETFROM:+0200
TZOFFSETTO:+0100
TZNAME:CET
DTSTART:20241027T010000
END:STANDARD
BEGIN:DAYLIGHT
TZOFFSETFROM:+0100
TZOFFSETTO:+0200
TZNAME:CEST
DTSTART:20250330T010000
END:DAYLIGHT
BEGIN:STANDARD
TZOFFSETFROM:+0200
TZOFFSETTO:+0100
TZNAME:CET
DTSTART:20251026T010000
END:STANDARD
BEGIN:DAYLIGHT
TZOFFSETFROM:+0100
TZOFFSETTO:+0200
TZNAME:CEST
DTSTART:20260329T010000
END:DAYLIGHT
BEGIN:STANDARD
TZOFFSETFROM:+0200
TZOFFSETTO:+0100
TZNAME:CET
DTSTART:20261025T010000
END:STANDARD
END:VTIMEZONE
BEGIN:VEVENT
DTSTART;TZID=Europe/Vienna:20250506T193000
DTEND;TZID=Europe/Vienna:20250506T210000
DTSTAMP:20260425T015034
CREATED:20250417T071246Z
LAST-MODIFIED:20250417T074955Z
UID:8182-1746559800-1746565200@oegam.at
SUMMARY:ÖGAM Treffen Wien
DESCRIPTION:Informelles Treffen von Mitgliedern der ÖGAM / JAMÖ in Wien und Interessierten Allgemeinmediziner:innen aller Karrierestufen. \n\n\n\nBestens geeignet zum Vernetzen\, Austausch und Kennenlernen der Aktivitäten der ÖGAM (z.B. was tut sich gerade in der Gesundheitspolitik\, was bedeutet der Facharzttitel für uns\,…)  \n\n\n\nJede:r ist willkommen! Wir freuen uns über eine Voranmeldung unter wien@oegam.at  \n\n\n\nDas Treffen findet diesmal im Restaurant Taj im 8. Bezirk statt.
URL:https://oegam.at/veranstaltungen/oegam-treffen-wien/
LOCATION:Taj – Indian Restaurant & Bar\, Kochgasse 9\, Wien\, 1080\, Österreich
ORGANIZER;CN="%C3%96GAM":MAILTO:office@oegam.at
END:VEVENT
BEGIN:VEVENT
DTSTART;TZID=Europe/Vienna:20250512T190000
DTEND;TZID=Europe/Vienna:20250512T210000
DTSTAMP:20260425T015034
CREATED:20250205T150956Z
LAST-MODIFIED:20250417T085814Z
UID:7835-1747076400-1747083600@oegam.at
SUMMARY:STAFAM Sono-Übungsabend
DESCRIPTION:Freies üben häufiger POCUS-Untersuchungen: Abdomen\, Lunge\, Herz\, Gefäße\, Schilddrüse\,… \n\n\n\n—     an 4 verschiedenen Sonographie-Arbeitsplätzen—     mit 4 erfahrenen Supervisor:Innen—     für 16 Teilnehmer:Innen \n\n\n\nOrt:Lysis Healthcare GmbHGrillweg 248053 Graz \n\n\n\nKosten: 50 EuroSTAFAM-Mitglieder sind kostenfrei \n\n\n\n3 DFP-Punkte \n\n\n\nWissenschaftliche Leitung: Dr. Martin Lischnig \n\n\n\nAnmeldung unter: corina.faullend@stafam.at
URL:https://oegam.at/veranstaltungen/stafam-sono-uebungsabend/
END:VEVENT
BEGIN:VEVENT
DTSTART;TZID=Europe/Vienna:20250518T160000
DTEND;TZID=Europe/Vienna:20250518T220000
DTSTAMP:20260425T015034
CREATED:20250512T131547Z
LAST-MODIFIED:20250513T122541Z
UID:8266-1747584000-1747605600@oegam.at
SUMMARY:WONCA Webinar: Self-Care for Family Doctors - Resilience Building and Mental Awareness (with WONCA Young Doctors' Movement)
DESCRIPTION:Datum & Uhrzeit: 18.Mai 2025 04:00 PM  in Wien \n\n\n\nBeschreibung: \n\n\n\nIn celebration of World Family Doctor Day 2025\, the WONCA Young Doctors’ Movement (YDM) invites you to join a webinar on Sunday\, 18 May 2025 at 2:00 PM UTC exploring the mental health and well-being of family doctors worldwide. Titled “Self-Care for Family Doctors: Avoiding Burnout and Building Resilience”\, this interactive session will highlight the unique emotional and professional pressures faced by early-career doctors\, especially those working in under-resourced and high-demand settings. Drawing inspiration from the campaign theme “Building Mental Resilience in a Changing World\,” the webinar will bring together voices from across regions to discuss how young doctors can sustain their energy\, passion\, and empathy through practical self-care strategies and peer support. \n\n\n\n\nRegistrierung\n\n\n\n\n \n\n\n\n \n\n\n\nQuelle: Meeting-Registrierung – Zoom
URL:https://oegam.at/veranstaltungen/wonca-webinar-self-care-for-family-doctors-resilience-building-and-mental-awareness-with-wonca-young-doctors-movement/
END:VEVENT
BEGIN:VEVENT
DTSTART;TZID=Europe/Vienna:20250519T140000
DTEND;TZID=Europe/Vienna:20250519T220000
DTSTAMP:20260425T015034
CREATED:20250513T121918Z
LAST-MODIFIED:20250513T123525Z
UID:8268-1747663200-1747692000@oegam.at
SUMMARY:WONCA Webinar: Working Together for Change - How Family Doctors and Patients Can Improve Mental Health (with World Patients Alliance)
DESCRIPTION:Datum & Uhrzeit: 19.Mai 2025 02:00 PM  in Wien \n\n\n\n\nRegistrierung
URL:https://oegam.at/veranstaltungen/wonca-webinar-working-together-for-change-how-family-doctors-and-patients-can-improve-mental-health-with-world-patients-alliance/
END:VEVENT
BEGIN:VEVENT
DTSTART;TZID=Europe/Vienna:20250519T180000
DTEND;TZID=Europe/Vienna:20250519T220000
DTSTAMP:20260425T015034
CREATED:20250513T122415Z
LAST-MODIFIED:20250513T123631Z
UID:8270-1747677600-1747692000@oegam.at
SUMMARY:WONCA Webinar: Key Concepts for Mental Resilience:Wonca Webinar -  Suffering and Hope; Coherence and Engagement; Eudaemonia and Ataraxia
DESCRIPTION:Datum & Uhrzeit: 19.Mai 2025 06:00 PM in Wien \n\n\n\nBeschreibung: \n\n\n\nAs part of the World Family Doctor Day 2025 campaign\, “Building Mental Resilience in a Changing World\,” this webinar brings together two prominent leaders in the field of mental health in primary care: Dr. Chris Dowrick\, Emeritus Professor of Primary Medical Care at the University of Liverpool and Past Chair of the WONCA Working Party on Mental Health\, and Professor Christos Lionis\, Professor of General Practice and Primary Health Care at the University of Crete and Current Chair of the WONCA Working Party on Mental Health. Together\, they lead a reflective exploration of three foundational pairings in the pursuit of mental resilience: • Suffering and Hope – the value of bearing witness to emotional pain while offering realistic\, compassionate hope. • Coherence and Engagement – how finding meaning and purpose helps both patients and clinicians remain grounded and active. • Eudaemonia and Ataraxia – classical philosophical ideals that can inspire a life of purpose and tranquility\, both in and beyond the clinic. A conversation between WONCA leaders who’ve spent their lives caring for others\, and thinking deeply about mental health. An inquiry into the conceptual foundations of resilience\, drawing on classical philosophy and contemporary frameworks. Grounded in lived experience and global insight\, the conversation speaks to the heart of family medicine: how we sustain ourselves while helping others navigate suffering\, complexity\, and change. This session is part of a special WONCA webinar series marking World Family Doctor Day 2025\, which highlights the essential role of primary health care in promoting mental wellness around the world. \n\n\n\n\nRegistrierung\n\n\n\n\nQuelle: Meeting-Registrierung – Zoom
URL:https://oegam.at/veranstaltungen/wonca-webinar-key-concepts-for-mental-resiliencewonca-webinar-suffering-and-hope-coherence-and-engagement-eudaemonia-and-ataraxia/
END:VEVENT
BEGIN:VEVENT
DTSTART;TZID=Europe/Vienna:20250520T120000
DTEND;TZID=Europe/Vienna:20250520T170000
DTSTAMP:20260425T015034
CREATED:20250513T122856Z
LAST-MODIFIED:20250513T122941Z
UID:8274-1747742400-1747760400@oegam.at
SUMMARY:WONCA Webinar: Cultural Approaches to Mental Health - Tailoring Solutions to Local Communities (with International Federation of Medical Student Associations)
DESCRIPTION:Datum & Uhrzeit: 20.Mai 2025 12:00 PM  in Wien \n\n\n\nBeschreibung: \n\n\n\nHosted by: WONCA (World Organization of Family Doctors) and IFMSA (International Federation of Medical Students’ Associations) Part of the World Family Doctor Day 2025 campaign: Building Mental Resilience in a Changing World This collaborative webinar brings together family doctors\, medical students\, and mental health leaders from across the globe to explore how culture\, community\, and context shape mental wellness—and how locally grounded solutions can improve outcomes in primary care. From culturally appropriate interventions to the role of music\, language\, and local practices\, our panel will share insights and lived experiences that help make mental health care more inclusive\, accessible\, and effective.  \n\n\n\n\nRegistrierung\n\n\n\n\nQuelle: Meeting-Registrierung – Zoom
URL:https://oegam.at/veranstaltungen/wonca-webinar-cultural-approaches-to-mental-health-tailoring-solutions-to-local-communities-with-international-federation-of-medical-student-associations/
END:VEVENT
BEGIN:VEVENT
DTSTART;TZID=Europe/Vienna:20250520T193000
DTEND;TZID=Europe/Vienna:20250520T213000
DTSTAMP:20260425T015034
CREATED:20250428T142819Z
LAST-MODIFIED:20250428T142822Z
UID:8227-1747769400-1747776600@oegam.at
SUMMARY:Allgemeinmedizin To Go - "Patienten mit Allgemeinsymptomen und erhöhter BSG (Blutsenkung) erhöht - Was nun?"
DESCRIPTION:für Ärzt*Innen und Studierende\, die ihr allgemeinmedizinisches Wissen vertiefen möchten. \n\n\n\nTeilnahme ist kostenlos\, Anmeldung ist erforderlich! \n\n\n\nPräsenz:Um an dieser Veranstaltung vor Ort\, in der Akademie für Allgemeinmedizin (Pestalozzistr. 62\, 8010 Graz) teilnehmen zu können\, melden Sie sich bitte per E-Mail an. corina.faullend@stafam.at \n\n\n\nOnline:Für die Online-Teilnahme registrieren Sie sich bitte unter dem Link: \n\n\n\nhttps://stafam.my.webex.com/weblink/register/r7a4c6cf119ed6bbef7c7c5eec14a113c \n\n\n\nFlyer-20.5Herunterladen
URL:https://oegam.at/veranstaltungen/allgemeinmedizin-to-go-patienten-mit-allgemeinsymptomen-und-erhoehter-bsg-blutsenkung-erhoeht-was-nun/
END:VEVENT
BEGIN:VEVENT
DTSTART;TZID=Europe/Vienna:20250521T150000
DTEND;TZID=Europe/Vienna:20250521T180000
DTSTAMP:20260425T015034
CREATED:20250513T123151Z
LAST-MODIFIED:20250513T123157Z
UID:8277-1747839600-1747850400@oegam.at
SUMMARY:WONCA Webinar: Addressing Depression in Primary Health Care - Lessons from the MDD Minds Project
DESCRIPTION:Datum & Uhrzeit: 21.Mai 2025 03:00 PM  in Wien \n\n\n\nBeschreibung: \n\n\n\nIn this special session\, Dr Ana B. Pérez Villalva (Mexico)—Master Faculty of the MDD Minds Project and Young Doctor’s Liaison on the WONCA Working Party on Mental Health—leads a powerful conversation on how family doctors can better detect\, manage\, and support patients with major depressive disorder (MDD) in primary care settings. Drawing on the global experience of the MDD Minds Project\, this webinar explores practical tools\, culturally relevant strategies\, and lessons learned across nine countries. It also highlights the critical role of clinician well-being and self-care in delivering effective mental health care. This session is part of a special WONCA webinar series marking World Family Doctor Day 2025\, which highlights the essential role of primary health care in promoting mental wellness around the world. – Learn more about the campaign: www.worldfamilydoctorday.org – Learn more about the MDD Minds Project: www.mddminds.org \n\n\n\n\nRegistrierung\n\n\n\n\nQuelle: Meeting-Registrierung – Zoom
URL:https://oegam.at/veranstaltungen/wonca-webinar-addressing-depression-in-primary-health-care-lessons-from-the-mdd-minds-project/
END:VEVENT
BEGIN:VEVENT
DTSTART;TZID=Europe/Vienna:20250524T090000
DTEND;TZID=Europe/Vienna:20250524T173000
DTSTAMP:20260425T015034
CREATED:20250320T174928Z
LAST-MODIFIED:20250325T212846Z
UID:8076-1748077200-1748107800@oegam.at
SUMMARY:11. Tagung der ÖGPAM
DESCRIPTION:Begegnungen im Ärztlichen Alltag\n\n\n\n\n\nÄrztekammer für Salzburg\, Faberstrasse 10\, 5020 Salzburg oder per Livestream \n\n\n\nweitere Details sowie die Möglichkeit zur Anmeldung finden sie hier: Link \n\n\n\n\n\n\n\nQuelle Bild: https://oegpam.at/aus-und-fortbildung/kalender-oegpam/tagungsunterlagen/tagung2025
URL:https://oegam.at/veranstaltungen/11-tagung-der-oegpam/
LOCATION:Ärztekammer Salzburg\, Faberstraße 10\, Salzburg\, 5020\, Österreich
END:VEVENT
END:VCALENDAR