BEGIN:VCALENDAR
VERSION:2.0
PRODID:-//ÖGAM - ECPv6.15.20//NONSGML v1.0//EN
CALSCALE:GREGORIAN
METHOD:PUBLISH
X-ORIGINAL-URL:https://oegam.at
X-WR-CALDESC:Veranstaltungen für ÖGAM
REFRESH-INTERVAL;VALUE=DURATION:PT1H
X-Robots-Tag:noindex
X-PUBLISHED-TTL:PT1H
BEGIN:VTIMEZONE
TZID:Europe/Vienna
BEGIN:DAYLIGHT
TZOFFSETFROM:+0100
TZOFFSETTO:+0200
TZNAME:CEST
DTSTART:20230326T010000
END:DAYLIGHT
BEGIN:STANDARD
TZOFFSETFROM:+0200
TZOFFSETTO:+0100
TZNAME:CET
DTSTART:20231029T010000
END:STANDARD
BEGIN:DAYLIGHT
TZOFFSETFROM:+0100
TZOFFSETTO:+0200
TZNAME:CEST
DTSTART:20240331T010000
END:DAYLIGHT
BEGIN:STANDARD
TZOFFSETFROM:+0200
TZOFFSETTO:+0100
TZNAME:CET
DTSTART:20241027T010000
END:STANDARD
BEGIN:DAYLIGHT
TZOFFSETFROM:+0100
TZOFFSETTO:+0200
TZNAME:CEST
DTSTART:20250330T010000
END:DAYLIGHT
BEGIN:STANDARD
TZOFFSETFROM:+0200
TZOFFSETTO:+0100
TZNAME:CET
DTSTART:20251026T010000
END:STANDARD
END:VTIMEZONE
BEGIN:VEVENT
DTSTART;TZID=Europe/Vienna:20240608T090000
DTEND;TZID=Europe/Vienna:20240608T163000
DTSTAMP:20260425T204504
CREATED:20230914T224829Z
LAST-MODIFIED:20240522T055828Z
UID:5843-1717837200-1717864200@oegam.at
SUMMARY:ÖGAM Fachtag Allgemein- und Familienmedizin 2024
DESCRIPTION:Das erste Mal seit Pandemiebeginn veranstalten die allgemeinmedizinischen Fachgesellschaften von Burgenland\, Niederösterreich und Wien einen gemeinsam Fachtag Allgemein- und Familienmedizin. Unser Ziel ist es\, praxisrelevante\, anwendbare und unabhängige Fortbildung in hoher Qualität und zugleich eine Plattform für Vernetzung und fachlichen Austausch zu bieten. \n\n\n\nAnmeldung\n\n\n\nDie Anmeldung ist ab sofort über dieses Formular möglich: https://form.campai.com/4y1QHwiuvhNw  \n\n\n\nDie Anmeldung gilt erst mit Eingang des Teilnahmebeitrags als bestätigt. Die Teilnahme an den Workshops ist bei Online-Teilnahme leider nicht möglich. \n\n\n\nBei Fragen wenden Sie sich bitte an wien@oegam.at  \n\n\n\nZur Datenschutzerklärung \n\n\n\nTeilnehmer:innenbeiträge\n\n\n\n Vor-OrtVirtuellNormaltarif150\,-130\,-ÖGAM-Mitglieder100\,-80\,-Studierende50\,-*20\,-* Die Vor-Ort-Kategorie Studierende ist aus organisatorischen Gründen auf 10 Plätze beschränkt.\n\n\n\n \n\n\n\nProgramm\n\n\n\nProgramm (Stand 2024-05-16)Herunterladen\n\n\n\nVormittag \n\n\n\nModeration: Sebastian Huter \n\n\n\n\n08:30 Uhr – Eintreffen und Registrierung\n\n\n\n09:00 Uhr – 9:10 Begrüßung „Ein Tag für ein Fach“\, Susanne Rabady\, Präsidentin der Österreichischen Gesellschaft für Allgemein- und Familienmedizin (ÖGAM)\n\n\n\n9:10 Uhr – Hauterkrankungen in der Allgemeinmedizin\, Wolfgang Fuchs\, Facharzt für Dermatologie und Venerologie\, Arzt für Allgemeinmedizin\, Burgenland\n\n\n\n9:50 Uhr – Beratungsanlass Familienplanung – muss ich immer überweisen?\, Camilla Wiesenthal\, Fachärztin für Gynäkologie und Geburtshilfe\, Wien\n\n\n\n10:30 Uhr – Kaffeepause \n\n\n\n10:45 Uhr – Parallel Sessions 1 \n\nVortrag: PreP und STDs in der hausärztlichen Praxis\, Markus Brose\, Arzt für Allgemeinmedizin\, Wien\n\n\n\nWorkshop 1: Wie verschreiben wir? Ein Praxisaustausch zur Verschreibung von Benzodiazepinen und Antibiotika\, Lisa Lehner\, Uni Wien & Honja Hama\, Meduni Wien\n\n\n\nWorkshop 2: Teambasierte Versorgungsmodelle – Unterstützungsangebote der Plattform Primärversorgung & Förderungen\, David Wachabauer\, Maximilian Schwarz\, Philipp Heinrich (GÖG)\n\n\n\n\n\n\n \n\n\n\n\n12:15-13:15 – Mittagspause mit warmen Buffet\n\n\n\n\n \n\n\n\nNachmittag\n\n\n\nModeration: Lisa Wilhelmer \n\n\n\n\n13:15 Uhr – Update Facharzt:Fachärztin Allgemein- und Familienmedizin – Bedeutung\, Umsetzung\, Anrechnung\, Sebastian Huter\n\n\n\n13:30 Uhr – Diskussion: Wie können digitale Lösungen unsere Versorgung verbessern\, Moderation: Christian Maté\, Arzt für Allgemeinmedizin\, Publizist  \n\nDiskutant*innen: Helmut Dultinger (ÖGAM)\, Angelika Rzepka (Austrian Institute for Technology)\, Florian Stummer (Meduni Wien)\, Peter Klar (Ärztezentrum Wienerwald) \n\n\n\n\n\n14:45 Uhr – Kaffeepause  \n\n\n\n15:00 Uhr – Parallel Sessions 2 \n\nVortrag: Rationale Labordiagnostik in der Allgemeinmedizin\, Georg Endler\, Facharzt für Labormedizin\, Wien\n\n\n\nWorkshop 3: Kultursensible Medizin – dieselbe Sprache sprechen\, Bernadette Becsi\, Ärztin für Allgemeinmedizin\, neunerhaus \n\n\n\nWorkshop 4: Low back pain – Manuelle Untersuchungstechniken\, Thomas Rustler\, Facharzt für Orthopädie\n\n\n\n\n\n16:30 Uhr – Ausklang und Get-together (Sektempfang) \n\n\n\n\nMit freundlicher Unterstützung von:\n\n\n\n\n\n\n\nÖsterreichische Gesundheitskasse \n\n\n\n\n\n\n\nGruppenpraxis labors.at \n\n\n\n\n\n\n\ndaslabor-eisenstadt – Ambulatorium für Med. und Chem. Labordiagnostik \n\n\n\n\n\n\n\n\n\n\n\n\n\n\n\n\n\nPlattform – Primärversorgung\, Gesundheit Österreich GmbH
URL:https://oegam.at/veranstaltungen/fachtag-2024/
LOCATION:Novum Hauptbahnhof\, Karl-Popper-Straße 16\, Wien\, Wien\, 1100\, Österreich
CATEGORIES:Fortbildung
ATTACH;FMTTYPE=image/jpeg:https://oegam.at/wp-content/uploads/2024/02/opening1-e1709063350331.jpg
END:VEVENT
END:VCALENDAR