BEGIN:VCALENDAR
VERSION:2.0
PRODID:-//ÖGAM - ECPv6.15.20//NONSGML v1.0//EN
CALSCALE:GREGORIAN
METHOD:PUBLISH
X-ORIGINAL-URL:https://oegam.at
X-WR-CALDESC:Veranstaltungen für ÖGAM
REFRESH-INTERVAL;VALUE=DURATION:PT1H
X-Robots-Tag:noindex
X-PUBLISHED-TTL:PT1H
BEGIN:VTIMEZONE
TZID:Europe/Vienna
BEGIN:DAYLIGHT
TZOFFSETFROM:+0100
TZOFFSETTO:+0200
TZNAME:CEST
DTSTART:20240331T010000
END:DAYLIGHT
BEGIN:STANDARD
TZOFFSETFROM:+0200
TZOFFSETTO:+0100
TZNAME:CET
DTSTART:20241027T010000
END:STANDARD
BEGIN:DAYLIGHT
TZOFFSETFROM:+0100
TZOFFSETTO:+0200
TZNAME:CEST
DTSTART:20250330T010000
END:DAYLIGHT
BEGIN:STANDARD
TZOFFSETFROM:+0200
TZOFFSETTO:+0100
TZNAME:CET
DTSTART:20251026T010000
END:STANDARD
BEGIN:DAYLIGHT
TZOFFSETFROM:+0100
TZOFFSETTO:+0200
TZNAME:CEST
DTSTART:20260329T010000
END:DAYLIGHT
BEGIN:STANDARD
TZOFFSETFROM:+0200
TZOFFSETTO:+0100
TZNAME:CET
DTSTART:20261025T010000
END:STANDARD
BEGIN:DAYLIGHT
TZOFFSETFROM:+0100
TZOFFSETTO:+0200
TZNAME:CEST
DTSTART:20270328T010000
END:DAYLIGHT
BEGIN:STANDARD
TZOFFSETFROM:+0200
TZOFFSETTO:+0100
TZNAME:CET
DTSTART:20271031T010000
END:STANDARD
BEGIN:DAYLIGHT
TZOFFSETFROM:+0100
TZOFFSETTO:+0200
TZNAME:CEST
DTSTART:20280326T010000
END:DAYLIGHT
BEGIN:STANDARD
TZOFFSETFROM:+0200
TZOFFSETTO:+0100
TZNAME:CET
DTSTART:20281029T010000
END:STANDARD
END:VTIMEZONE
BEGIN:VEVENT
DTSTART;TZID=Europe/Vienna:20251113T000000
DTEND;TZID=Europe/Vienna:20270117T235959
DTSTAMP:20260424T154406
CREATED:20251113T091230Z
LAST-MODIFIED:20260314T224035Z
UID:8855-1762992000-1800230399@oegam.at
SUMMARY:ÖÄK-Diplomlehrgang Psychosoziale Medizin (Psy1)
DESCRIPTION:Veranstalter: ÖAGG (Österreichischer Arbeitskreis für Gruppentherapie und Gruppendynamik) \n\n\n\nTermine:10.09. bis 13.09.2026 (Donnerstag bis Sonntag)07.11. bis 08.11.2026 (Samstag und Sonntag)16.01. bis 17.01.2027 (Samstag und Sonntag) \n\n\n\nOrt:Naturhotel Steinschalerhof Warth 203203 Rabensteinwww.steinschaler.at \n\n\n\nTeilnahmegebührEUR 1.480\,- Die Kosten für das Naturhotel sind vor Ort zu begleichenInformationen und AnmeldungE-Mail: psy-diplome(at)oeagg.at \n\n\n\nWeb: www.psydiplome.infoLehrgangsleitung:Dr. med. Eva PerikMobil: +43 676 44 83 263
URL:https://oegam.at/veranstaltungen/oeaek-diplomlehrgang-psychosoziale-medizin-psy1/
END:VEVENT
BEGIN:VEVENT
DTSTART;TZID=Europe/Vienna:20260925T000000
DTEND;TZID=Europe/Vienna:20260926T235959
DTSTAMP:20260424T154406
CREATED:20260218T124453Z
LAST-MODIFIED:20260218T124455Z
UID:9086-1790294400-1790467199@oegam.at
SUMMARY:VIVE: 16. Interdisziplinäre Vulvaworkshop
DESCRIPTION:Der Verein Interdisziplinäre Interessensgemeinschaft Vulvaerkrankungen veranstaltet den 16. Interdisziplinäre Vulvaworkshop. Dieser vermittelt praxisorientiertes Wissen über vulväre / anogenitale Erkrankungen mit besonderem Augenmerkt auf Interdisziplinarität.  \n\n\n\nNeben GynäkologInnen sind auch DermatologInnen\, AllgemeinmedizinerInnen\, HausärztInnen wie alle KollegInnen und TherapeutInnen angrenzender Fachgebiete angesprochen. \n\n\n\nDer 16. VWS findet heuer in der Grazer Innenstadt im Grazer Congress statt (Eingang Schmiedgasse 2\, 8010 Graz). \n\n\n\nDatum: 25.-26. September 2026 \n\n\n\nInhalte:1. Tag: Grundlagen\, Lichen planus und Lichen sklerosus – Klinik und Therapie\, vulväre Karzinogese2. Tag: Schmerzsymptomatik an der Vulva und anogenitale Karzinogenese \n\n\n\n \n\n\n\nDirekt zum ProgrammDirekt zur Anmeldung 
URL:https://oegam.at/veranstaltungen/vive-16-interdisziplinaere-vulvaworkshop/
END:VEVENT
END:VCALENDAR