BEGIN:VCALENDAR
VERSION:2.0
PRODID:-//ÖGAM - ECPv6.15.20//NONSGML v1.0//EN
CALSCALE:GREGORIAN
METHOD:PUBLISH
X-ORIGINAL-URL:https://oegam.at
X-WR-CALDESC:Veranstaltungen für ÖGAM
REFRESH-INTERVAL;VALUE=DURATION:PT1H
X-Robots-Tag:noindex
X-PUBLISHED-TTL:PT1H
BEGIN:VTIMEZONE
TZID:Europe/Vienna
BEGIN:DAYLIGHT
TZOFFSETFROM:+0100
TZOFFSETTO:+0200
TZNAME:CEST
DTSTART:20240331T010000
END:DAYLIGHT
BEGIN:STANDARD
TZOFFSETFROM:+0200
TZOFFSETTO:+0100
TZNAME:CET
DTSTART:20241027T010000
END:STANDARD
BEGIN:DAYLIGHT
TZOFFSETFROM:+0100
TZOFFSETTO:+0200
TZNAME:CEST
DTSTART:20250330T010000
END:DAYLIGHT
BEGIN:STANDARD
TZOFFSETFROM:+0200
TZOFFSETTO:+0100
TZNAME:CET
DTSTART:20251026T010000
END:STANDARD
BEGIN:DAYLIGHT
TZOFFSETFROM:+0100
TZOFFSETTO:+0200
TZNAME:CEST
DTSTART:20260329T010000
END:DAYLIGHT
BEGIN:STANDARD
TZOFFSETFROM:+0200
TZOFFSETTO:+0100
TZNAME:CET
DTSTART:20261025T010000
END:STANDARD
BEGIN:DAYLIGHT
TZOFFSETFROM:+0100
TZOFFSETTO:+0200
TZNAME:CEST
DTSTART:20270328T010000
END:DAYLIGHT
BEGIN:STANDARD
TZOFFSETFROM:+0200
TZOFFSETTO:+0100
TZNAME:CET
DTSTART:20271031T010000
END:STANDARD
BEGIN:DAYLIGHT
TZOFFSETFROM:+0100
TZOFFSETTO:+0200
TZNAME:CEST
DTSTART:20280326T010000
END:DAYLIGHT
BEGIN:STANDARD
TZOFFSETFROM:+0200
TZOFFSETTO:+0100
TZNAME:CET
DTSTART:20281029T010000
END:STANDARD
END:VTIMEZONE
BEGIN:VEVENT
DTSTART;TZID=Europe/Vienna:20251113T000000
DTEND;TZID=Europe/Vienna:20270117T235959
DTSTAMP:20260420T131935
CREATED:20251113T091230Z
LAST-MODIFIED:20260314T224035Z
UID:8855-1762992000-1800230399@oegam.at
SUMMARY:ÖÄK-Diplomlehrgang Psychosoziale Medizin (Psy1)
DESCRIPTION:Veranstalter: ÖAGG (Österreichischer Arbeitskreis für Gruppentherapie und Gruppendynamik) \n\n\n\nTermine:10.09. bis 13.09.2026 (Donnerstag bis Sonntag)07.11. bis 08.11.2026 (Samstag und Sonntag)16.01. bis 17.01.2027 (Samstag und Sonntag) \n\n\n\nOrt:Naturhotel Steinschalerhof Warth 203203 Rabensteinwww.steinschaler.at \n\n\n\nTeilnahmegebührEUR 1.480\,- Die Kosten für das Naturhotel sind vor Ort zu begleichenInformationen und AnmeldungE-Mail: psy-diplome(at)oeagg.at \n\n\n\nWeb: www.psydiplome.infoLehrgangsleitung:Dr. med. Eva PerikMobil: +43 676 44 83 263
URL:https://oegam.at/veranstaltungen/oeaek-diplomlehrgang-psychosoziale-medizin-psy1/
END:VEVENT
BEGIN:VEVENT
DTSTART;TZID=Europe/Vienna:20260422T000000
DTEND;TZID=Europe/Vienna:20260424T235959
DTSTAMP:20260420T131935
CREATED:20260311T092300Z
LAST-MODIFIED:20260311T092301Z
UID:9144-1776816000-1777075199@oegam.at
SUMMARY:28. Jahrestagung der ÖGES gemeinsam mit der ANETS 2026
DESCRIPTION:Die Österreichische Gesellschaft für Endokrinologie und Stoffwechsel (ÖGES) veranstaltet heuer gemeinsam mit der Austrian Neuroendocrine Tumour Society (ANETS) die 28. Jahrestagung \n\n\n\nWann: 22. – 24. April 2026Wo: Kongress- und Theaterhaus Bad Ischl \n\n\n\nDie Registrierung ist bereits geöffnet! \n\n\n\nHier finden Sie weitere Informationen & die Möglichkeit zur Anmeldung
URL:https://oegam.at/veranstaltungen/28-jahrestagung-der-oeges-gemeinsam-mit-der-anets-2026/
END:VEVENT
BEGIN:VEVENT
DTSTART;TZID=Europe/Vienna:20260422T080000
DTEND;TZID=Europe/Vienna:20260424T170000
DTSTAMP:20260420T131935
CREATED:20260218T092124Z
LAST-MODIFIED:20260218T092126Z
UID:9078-1776844800-1777050000@oegam.at
SUMMARY:ÖKSG: 10. Dreiländertagung Kopfschmerz
DESCRIPTION:Die Österreichische Kopfschmerzgesellschaft (ÖKSG) veranstaltet vom 22. – 24.04.2026 die 10. Dreiländertagung Kopfschmerz (Klagenfurt\, Lakeside).  \n\n\n\nWeitere Informationen finden Sie unter: www.kopfschmerz2026.at
URL:https://oegam.at/veranstaltungen/oeksg-10-dreilaendertagung-kopfschmerz/
END:VEVENT
END:VCALENDAR