BEGIN:VCALENDAR
VERSION:2.0
PRODID:-//ÖGAM - ECPv6.15.20//NONSGML v1.0//EN
CALSCALE:GREGORIAN
METHOD:PUBLISH
X-WR-CALNAME:ÖGAM
X-ORIGINAL-URL:https://oegam.at
X-WR-CALDESC:Veranstaltungen für ÖGAM
REFRESH-INTERVAL;VALUE=DURATION:PT1H
X-Robots-Tag:noindex
X-PUBLISHED-TTL:PT1H
BEGIN:VTIMEZONE
TZID:Europe/Vienna
BEGIN:DAYLIGHT
TZOFFSETFROM:+0100
TZOFFSETTO:+0200
TZNAME:CEST
DTSTART:20240331T010000
END:DAYLIGHT
BEGIN:STANDARD
TZOFFSETFROM:+0200
TZOFFSETTO:+0100
TZNAME:CET
DTSTART:20241027T010000
END:STANDARD
BEGIN:DAYLIGHT
TZOFFSETFROM:+0100
TZOFFSETTO:+0200
TZNAME:CEST
DTSTART:20250330T010000
END:DAYLIGHT
BEGIN:STANDARD
TZOFFSETFROM:+0200
TZOFFSETTO:+0100
TZNAME:CET
DTSTART:20251026T010000
END:STANDARD
BEGIN:DAYLIGHT
TZOFFSETFROM:+0100
TZOFFSETTO:+0200
TZNAME:CEST
DTSTART:20260329T010000
END:DAYLIGHT
BEGIN:STANDARD
TZOFFSETFROM:+0200
TZOFFSETTO:+0100
TZNAME:CET
DTSTART:20261025T010000
END:STANDARD
BEGIN:DAYLIGHT
TZOFFSETFROM:+0100
TZOFFSETTO:+0200
TZNAME:CEST
DTSTART:20270328T010000
END:DAYLIGHT
BEGIN:STANDARD
TZOFFSETFROM:+0200
TZOFFSETTO:+0100
TZNAME:CET
DTSTART:20271031T010000
END:STANDARD
BEGIN:DAYLIGHT
TZOFFSETFROM:+0100
TZOFFSETTO:+0200
TZNAME:CEST
DTSTART:20280326T010000
END:DAYLIGHT
BEGIN:STANDARD
TZOFFSETFROM:+0200
TZOFFSETTO:+0100
TZNAME:CET
DTSTART:20281029T010000
END:STANDARD
END:VTIMEZONE
BEGIN:VEVENT
DTSTART;TZID=Europe/Vienna:20251113T000000
DTEND;TZID=Europe/Vienna:20270117T235959
DTSTAMP:20260420T131804
CREATED:20251113T091230Z
LAST-MODIFIED:20260314T224035Z
UID:8855-1762992000-1800230399@oegam.at
SUMMARY:ÖÄK-Diplomlehrgang Psychosoziale Medizin (Psy1)
DESCRIPTION:Veranstalter: ÖAGG (Österreichischer Arbeitskreis für Gruppentherapie und Gruppendynamik) \n\n\n\nTermine:10.09. bis 13.09.2026 (Donnerstag bis Sonntag)07.11. bis 08.11.2026 (Samstag und Sonntag)16.01. bis 17.01.2027 (Samstag und Sonntag) \n\n\n\nOrt:Naturhotel Steinschalerhof Warth 203203 Rabensteinwww.steinschaler.at \n\n\n\nTeilnahmegebührEUR 1.480\,- Die Kosten für das Naturhotel sind vor Ort zu begleichenInformationen und AnmeldungE-Mail: psy-diplome(at)oeagg.at \n\n\n\nWeb: www.psydiplome.infoLehrgangsleitung:Dr. med. Eva PerikMobil: +43 676 44 83 263
URL:https://oegam.at/veranstaltungen/oeaek-diplomlehrgang-psychosoziale-medizin-psy1/
END:VEVENT
BEGIN:VEVENT
DTSTART;TZID=Europe/Vienna:20260409T080000
DTEND;TZID=Europe/Vienna:20260411T170000
DTSTAMP:20260420T131804
CREATED:20250623T130709Z
LAST-MODIFIED:20251217T071539Z
UID:8397-1775721600-1775926800@oegam.at
SUMMARY:SAVE THE DATE! ÖGGG Jahreskongress 2026
DESCRIPTION:SAVE THE DATE! \n\n\n\nWo: Universität Wien \n\n\n\nweitere Infos unter: Home – ÖGGG
URL:https://oegam.at/veranstaltungen/save-the-date-oeggg-jahreskongress-2026/
END:VEVENT
BEGIN:VEVENT
DTSTART;TZID=Europe/Vienna:20260411T000000
DTEND;TZID=Europe/Vienna:20260411T235959
DTSTAMP:20260420T131804
CREATED:20260202T112543Z
LAST-MODIFIED:20260202T112545Z
UID:9014-1775865600-1775951999@oegam.at
SUMMARY:SAGAM Kongress: Rücken mit Tücken
DESCRIPTION:Der Kongress trägt heuer den Titel “Rücken mit Tücken” – wie gewohnt wird dieses Thema aus mehreren Fachrichtungen betrachten und so wieder einen für Allgemeinmediziner*innen hoch relevanten Überblick geschaffen. Natürlich gibt es auch für Assistent*innen wie immer ein interessantes Programm! \n\n\n\nWir freuen uns am 11.April 2026 neuerlich im Medizinischen Zentrum Bad Vigaun zu Gast sein zu dürfen. Die Anmeldung ist ab sofort möglich! (max. 100 Teilnehmer) \n\n\n\n \n\n\n\n\nInfos & Anmeldung
URL:https://oegam.at/veranstaltungen/sagam-kongress-ruecken-mit-tuecken/
END:VEVENT
END:VCALENDAR