BEGIN:VCALENDAR
VERSION:2.0
PRODID:-//ÖGAM - ECPv6.15.20//NONSGML v1.0//EN
CALSCALE:GREGORIAN
METHOD:PUBLISH
X-WR-CALNAME:ÖGAM
X-ORIGINAL-URL:https://oegam.at
X-WR-CALDESC:Veranstaltungen für ÖGAM
REFRESH-INTERVAL;VALUE=DURATION:PT1H
X-Robots-Tag:noindex
X-PUBLISHED-TTL:PT1H
BEGIN:VTIMEZONE
TZID:Europe/Vienna
BEGIN:DAYLIGHT
TZOFFSETFROM:+0100
TZOFFSETTO:+0200
TZNAME:CEST
DTSTART:20240331T010000
END:DAYLIGHT
BEGIN:STANDARD
TZOFFSETFROM:+0200
TZOFFSETTO:+0100
TZNAME:CET
DTSTART:20241027T010000
END:STANDARD
BEGIN:DAYLIGHT
TZOFFSETFROM:+0100
TZOFFSETTO:+0200
TZNAME:CEST
DTSTART:20250330T010000
END:DAYLIGHT
BEGIN:STANDARD
TZOFFSETFROM:+0200
TZOFFSETTO:+0100
TZNAME:CET
DTSTART:20251026T010000
END:STANDARD
BEGIN:DAYLIGHT
TZOFFSETFROM:+0100
TZOFFSETTO:+0200
TZNAME:CEST
DTSTART:20260329T010000
END:DAYLIGHT
BEGIN:STANDARD
TZOFFSETFROM:+0200
TZOFFSETTO:+0100
TZNAME:CET
DTSTART:20261025T010000
END:STANDARD
BEGIN:DAYLIGHT
TZOFFSETFROM:+0100
TZOFFSETTO:+0200
TZNAME:CEST
DTSTART:20270328T010000
END:DAYLIGHT
BEGIN:STANDARD
TZOFFSETFROM:+0200
TZOFFSETTO:+0100
TZNAME:CET
DTSTART:20271031T010000
END:STANDARD
BEGIN:DAYLIGHT
TZOFFSETFROM:+0100
TZOFFSETTO:+0200
TZNAME:CEST
DTSTART:20280326T010000
END:DAYLIGHT
BEGIN:STANDARD
TZOFFSETFROM:+0200
TZOFFSETTO:+0100
TZNAME:CET
DTSTART:20281029T010000
END:STANDARD
END:VTIMEZONE
BEGIN:VEVENT
DTSTART;TZID=Europe/Vienna:20250917T000000
DTEND;TZID=Europe/Vienna:20260120T235959
DTSTAMP:20260424T181710
CREATED:20250811T155836Z
LAST-MODIFIED:20250917T082416Z
UID:8516-1758067200-1768953599@oegam.at
SUMMARY:Schmerzdiplomkurse WEST / OST 2026
DESCRIPTION:Jeden Tag müssen Sie Schmerzpatient:innen behandeln – die Schmerzursache eruieren und die richtige Therapie finden. Nicht immer leicht\, denn Schmerzgeschehen ist sehr komplex. \n\n\n\nUnser Kursangebot richtet sich an Kolleg:innen aus der Allgemeinmedizin\, aber auch an Fachärzt:innen\, die tagtäglich mit Schmerzpatient:innen zu tun haben. Das österreichische Schmerzdiplom ist in drei Modulen aufgebaut und ist von der österreichischen Ärztekammer akkreditiert und orientiert sich darüber hinaus am Schmerz-Curriculum des European Diploma in Pain Medicine (EFIC). \n\n\n\n\n\n\n\n \n\n\n\nJedes Modul umfasst 40 Stunden\, in denen ein umfassendes Wissen zu Diagnostik und Therapie akuter und chronischer Schmerzzustände vermittelt wird. Modul 1 wird bei uns online abgehalten\, bei Modul 2 und 3 gibt es jeweils zwei Präsenztage\, um auch Untersuchungstechniken zu trainieren. Die Vortragenden zählen zu den Top-Schmerz-Expert:innen des Landes. Nach Abschluss aller drei Module und dem Nachweis von 80 Praxisstunden erhalten Sie das Schmerzdiplom der Österreichischen Ärztekammer. \n\n\n\nJetzt gleich anmelden für die Kurse OST oder WEST 2026!  \n\n\n\nWeitere Informationen und Anmeldung
URL:https://oegam.at/veranstaltungen/schmerzdiplomkurse-ost-2026/
END:VEVENT
BEGIN:VEVENT
DTSTART;TZID=Europe/Vienna:20251113T000000
DTEND;TZID=Europe/Vienna:20270117T235959
DTSTAMP:20260424T181710
CREATED:20251113T091230Z
LAST-MODIFIED:20260314T224035Z
UID:8855-1762992000-1800230399@oegam.at
SUMMARY:ÖÄK-Diplomlehrgang Psychosoziale Medizin (Psy1)
DESCRIPTION:Veranstalter: ÖAGG (Österreichischer Arbeitskreis für Gruppentherapie und Gruppendynamik) \n\n\n\nTermine:10.09. bis 13.09.2026 (Donnerstag bis Sonntag)07.11. bis 08.11.2026 (Samstag und Sonntag)16.01. bis 17.01.2027 (Samstag und Sonntag) \n\n\n\nOrt:Naturhotel Steinschalerhof Warth 203203 Rabensteinwww.steinschaler.at \n\n\n\nTeilnahmegebührEUR 1.480\,- Die Kosten für das Naturhotel sind vor Ort zu begleichenInformationen und AnmeldungE-Mail: psy-diplome(at)oeagg.at \n\n\n\nWeb: www.psydiplome.infoLehrgangsleitung:Dr. med. Eva PerikMobil: +43 676 44 83 263
URL:https://oegam.at/veranstaltungen/oeaek-diplomlehrgang-psychosoziale-medizin-psy1/
END:VEVENT
BEGIN:VEVENT
DTSTART;TZID=Europe/Vienna:20260115T180000
DTEND;TZID=Europe/Vienna:20260115T193000
DTSTAMP:20260424T181710
CREATED:20251211T131403Z
LAST-MODIFIED:20251211T131408Z
UID:8902-1768500000-1768505400@oegam.at
SUMMARY:Universitätslehrgang "Primary Health Care" der MedUni Graz\, Online-Informationsabend am 15.01.2026
DESCRIPTION:Der Universitätslehrgang Primary Health Care integriert methodisches und praktisches Wissen aus unterschiedlichen Disziplinen\, die für die Primärversorgung relevant sind\, wie Versorgungs- und Gesundheitssystemforschung\, Evidenzbasierte Gesundheitsversorgung (Evidence Based Medicine\, Evidence Based Nursing\, u.ä.)\, Gesundheitsförderung\, Prävention und Gesundheitskompetenz\, Epidemiologie und Biostatistik sowie Management und Leadership. \n\n\n\nZiel des Universitätslehrgangs ist es\, den Teilnehmer*innen ein fundiertes\, handlungsgeleitetes Wissen und umfassende Kompetenzen im Bereich „Primary Health Care“ (PHC) zu vermitteln. \n\n\n\nEinzelne Module können als individuelle Weiterbildung gebucht werden. \n\n\n\nIm Überblick\n\n\n\nDauer: 6 Semester\, berufsbegleitendECTS: 120Abschluss: Master of Science (Continuing Education) – MSc (CE)Kosten: € 13.500\,-Start: Wintersemester 2026/27 \n\n\n\n\n\n\n\nOnline-Informationsabend am 15. Jänner 2026 | 18:00 – 19:30 Uhr \n\n\n\nErhalten Sie alle wichtigen Informationen zum Ablauf\, zu Fördermöglichkeiten und zu unseren Referent*innen! Sichern Sie sich gleich Ihren Platz – wir freuen uns auf Ihre Teilnahme!  Jetzt anmelden: primary-care(at)medunigraz.at
URL:https://oegam.at/veranstaltungen/universitaetslehrgang-primary-health-care-der-meduni-graz-online-informationsabend-am-15-01-2026/
END:VEVENT
END:VCALENDAR