BEGIN:VCALENDAR
VERSION:2.0
PRODID:-//ÖGAM - ECPv6.15.20//NONSGML v1.0//EN
CALSCALE:GREGORIAN
METHOD:PUBLISH
X-ORIGINAL-URL:https://oegam.at
X-WR-CALDESC:Veranstaltungen für ÖGAM
REFRESH-INTERVAL;VALUE=DURATION:PT1H
X-Robots-Tag:noindex
X-PUBLISHED-TTL:PT1H
BEGIN:VTIMEZONE
TZID:Europe/Vienna
BEGIN:DAYLIGHT
TZOFFSETFROM:+0100
TZOFFSETTO:+0200
TZNAME:CEST
DTSTART:20240331T010000
END:DAYLIGHT
BEGIN:STANDARD
TZOFFSETFROM:+0200
TZOFFSETTO:+0100
TZNAME:CET
DTSTART:20241027T010000
END:STANDARD
BEGIN:DAYLIGHT
TZOFFSETFROM:+0100
TZOFFSETTO:+0200
TZNAME:CEST
DTSTART:20250330T010000
END:DAYLIGHT
BEGIN:STANDARD
TZOFFSETFROM:+0200
TZOFFSETTO:+0100
TZNAME:CET
DTSTART:20251026T010000
END:STANDARD
BEGIN:DAYLIGHT
TZOFFSETFROM:+0100
TZOFFSETTO:+0200
TZNAME:CEST
DTSTART:20260329T010000
END:DAYLIGHT
BEGIN:STANDARD
TZOFFSETFROM:+0200
TZOFFSETTO:+0100
TZNAME:CET
DTSTART:20261025T010000
END:STANDARD
END:VTIMEZONE
BEGIN:VEVENT
DTSTART;TZID=Europe/Vienna:20250512T190000
DTEND;TZID=Europe/Vienna:20250512T210000
DTSTAMP:20260425T032533
CREATED:20250205T150956Z
LAST-MODIFIED:20250417T085814Z
UID:7835-1747076400-1747083600@oegam.at
SUMMARY:STAFAM Sono-Übungsabend
DESCRIPTION:Freies üben häufiger POCUS-Untersuchungen: Abdomen\, Lunge\, Herz\, Gefäße\, Schilddrüse\,… \n\n\n\n—     an 4 verschiedenen Sonographie-Arbeitsplätzen—     mit 4 erfahrenen Supervisor:Innen—     für 16 Teilnehmer:Innen \n\n\n\nOrt:Lysis Healthcare GmbHGrillweg 248053 Graz \n\n\n\nKosten: 50 EuroSTAFAM-Mitglieder sind kostenfrei \n\n\n\n3 DFP-Punkte \n\n\n\nWissenschaftliche Leitung: Dr. Martin Lischnig \n\n\n\nAnmeldung unter: corina.faullend@stafam.at
URL:https://oegam.at/veranstaltungen/stafam-sono-uebungsabend/
END:VEVENT
END:VCALENDAR