BEGIN:VCALENDAR
VERSION:2.0
PRODID:-//ÖGAM - ECPv6.15.20//NONSGML v1.0//EN
CALSCALE:GREGORIAN
METHOD:PUBLISH
X-WR-CALNAME:ÖGAM
X-ORIGINAL-URL:https://oegam.at
X-WR-CALDESC:Veranstaltungen für ÖGAM
REFRESH-INTERVAL;VALUE=DURATION:PT1H
X-Robots-Tag:noindex
X-PUBLISHED-TTL:PT1H
BEGIN:VTIMEZONE
TZID:Europe/Vienna
BEGIN:DAYLIGHT
TZOFFSETFROM:+0100
TZOFFSETTO:+0200
TZNAME:CEST
DTSTART:20230326T010000
END:DAYLIGHT
BEGIN:STANDARD
TZOFFSETFROM:+0200
TZOFFSETTO:+0100
TZNAME:CET
DTSTART:20231029T010000
END:STANDARD
BEGIN:DAYLIGHT
TZOFFSETFROM:+0100
TZOFFSETTO:+0200
TZNAME:CEST
DTSTART:20240331T010000
END:DAYLIGHT
BEGIN:STANDARD
TZOFFSETFROM:+0200
TZOFFSETTO:+0100
TZNAME:CET
DTSTART:20241027T010000
END:STANDARD
BEGIN:DAYLIGHT
TZOFFSETFROM:+0100
TZOFFSETTO:+0200
TZNAME:CEST
DTSTART:20250330T010000
END:DAYLIGHT
BEGIN:STANDARD
TZOFFSETFROM:+0200
TZOFFSETTO:+0100
TZNAME:CET
DTSTART:20251026T010000
END:STANDARD
END:VTIMEZONE
BEGIN:VEVENT
DTSTART;TZID=Europe/Vienna:20241109T000000
DTEND;TZID=Europe/Vienna:20241109T235959
DTSTAMP:20260425T132205
CREATED:20240603T072213Z
LAST-MODIFIED:20240603T072216Z
UID:6351-1731110400-1731196799@oegam.at
SUMMARY:SAVE the DATE: Herbstseminar "PÄDIATRIE"
DESCRIPTION:Veranstalter:BUGAM – Burgenländische Gesellschaft für Allgemein- und Familienmedizin \n\n\n\nTagungsanmeldung:E-Mail: office@bugam.at \n\n\n\nTagungsort:Vinatrium Deutschkreutz\, Hauptstraße 55\, 7301 Deutschkreutz
URL:https://oegam.at/veranstaltungen/save-the-date-herbstseminar-paediatrie/
LOCATION:Deutschkreutz
END:VEVENT
END:VCALENDAR