BEGIN:VCALENDAR
VERSION:2.0
PRODID:-//ÖGAM - ECPv6.15.20//NONSGML v1.0//EN
CALSCALE:GREGORIAN
METHOD:PUBLISH
X-ORIGINAL-URL:https://oegam.at
X-WR-CALDESC:Veranstaltungen für ÖGAM
REFRESH-INTERVAL;VALUE=DURATION:PT1H
X-Robots-Tag:noindex
X-PUBLISHED-TTL:PT1H
BEGIN:VTIMEZONE
TZID:Europe/Vienna
BEGIN:DAYLIGHT
TZOFFSETFROM:+0100
TZOFFSETTO:+0200
TZNAME:CEST
DTSTART:20230326T010000
END:DAYLIGHT
BEGIN:STANDARD
TZOFFSETFROM:+0200
TZOFFSETTO:+0100
TZNAME:CET
DTSTART:20231029T010000
END:STANDARD
BEGIN:DAYLIGHT
TZOFFSETFROM:+0100
TZOFFSETTO:+0200
TZNAME:CEST
DTSTART:20240331T010000
END:DAYLIGHT
BEGIN:STANDARD
TZOFFSETFROM:+0200
TZOFFSETTO:+0100
TZNAME:CET
DTSTART:20241027T010000
END:STANDARD
BEGIN:DAYLIGHT
TZOFFSETFROM:+0100
TZOFFSETTO:+0200
TZNAME:CEST
DTSTART:20250330T010000
END:DAYLIGHT
BEGIN:STANDARD
TZOFFSETFROM:+0200
TZOFFSETTO:+0100
TZNAME:CET
DTSTART:20251026T010000
END:STANDARD
END:VTIMEZONE
BEGIN:VEVENT
DTSTART;TZID=Europe/Vienna:20241019T093000
DTEND;TZID=Europe/Vienna:20241019T183000
DTSTAMP:20260425T152228
CREATED:20241008T190903Z
LAST-MODIFIED:20241010T124853Z
UID:6957-1729330200-1729362600@oegam.at
SUMMARY:ÖGAM - Nachwuchsakademie 2024
DESCRIPTION:In den letzten 3 Jahren wurde erfolgreich die „Zukunftswerkstatt“ der ÖGAM abgehalten. Heuer findet diese Veranstaltung unter neuem Namen statt: „Nachwuchsakademie“. Der Name hat sich zwar geändert\, inhaltlich bleibt die Veranstaltung wie gehabt spannend\, sozial entspannend\, erfrischend und motivierend! \n\n\n\nWann: Samstag\, 19.10.2024   \n\n\n\nWo: Ärztekammer Salzburg\, Faberstraße 10\, 5020 Salzburg \n\n\n\nWer: Das Präsidium der ÖGAM freut sich über alle Teilnehmenden\, die näher an die ÖGAM “heranrücken” oder sich beim kreativen Think tank an diesem Wochenende beteiligen wollen und noch mindestens 10 Jahre Praxistätigkeit vor sich haben. \n\n\n\nWas: hier geht’s zum Programm \n\n\n\nFür die Anmeldung verwenden Sie bittet dieses Formular!
URL:https://oegam.at/veranstaltungen/oegam-nachwuchsakademie-2024/
LOCATION:Ärztekammer Salzburg\, Faberstraße 10\, Salzburg\, 5020\, Österreich
ORGANIZER;CN="%C3%96GAM":MAILTO:office@oegam.at
END:VEVENT
END:VCALENDAR