BEGIN:VCALENDAR
VERSION:2.0
PRODID:-//ÖGAM - ECPv6.15.20//NONSGML v1.0//EN
CALSCALE:GREGORIAN
METHOD:PUBLISH
X-ORIGINAL-URL:https://oegam.at
X-WR-CALDESC:Veranstaltungen für ÖGAM
REFRESH-INTERVAL;VALUE=DURATION:PT1H
X-Robots-Tag:noindex
X-PUBLISHED-TTL:PT1H
BEGIN:VTIMEZONE
TZID:Europe/Vienna
BEGIN:DAYLIGHT
TZOFFSETFROM:+0100
TZOFFSETTO:+0200
TZNAME:CEST
DTSTART:20230326T010000
END:DAYLIGHT
BEGIN:STANDARD
TZOFFSETFROM:+0200
TZOFFSETTO:+0100
TZNAME:CET
DTSTART:20231029T010000
END:STANDARD
BEGIN:DAYLIGHT
TZOFFSETFROM:+0100
TZOFFSETTO:+0200
TZNAME:CEST
DTSTART:20240331T010000
END:DAYLIGHT
BEGIN:STANDARD
TZOFFSETFROM:+0200
TZOFFSETTO:+0100
TZNAME:CET
DTSTART:20241027T010000
END:STANDARD
BEGIN:DAYLIGHT
TZOFFSETFROM:+0100
TZOFFSETTO:+0200
TZNAME:CEST
DTSTART:20250330T010000
END:DAYLIGHT
BEGIN:STANDARD
TZOFFSETFROM:+0200
TZOFFSETTO:+0100
TZNAME:CET
DTSTART:20251026T010000
END:STANDARD
END:VTIMEZONE
BEGIN:VEVENT
DTSTART;TZID=Europe/Vienna:20240925T080000
DTEND;TZID=Europe/Vienna:20240928T170000
DTSTAMP:20260425T172339
CREATED:20240423T172905Z
LAST-MODIFIED:20240423T172908Z
UID:6134-1727251200-1727542800@oegam.at
SUMMARY:29th WONCA Europe conference
DESCRIPTION:The title is: The Changing Nature of Family Medicine – Cultivating the Future
URL:https://oegam.at/veranstaltungen/29th-wonca-europe-conference/
LOCATION:Dublin\, Dublin\, Irland
END:VEVENT
BEGIN:VEVENT
DTSTART;TZID=Europe/Vienna:20240927T164500
DTEND;TZID=Europe/Vienna:20240928T160000
DTSTAMP:20260425T172339
CREATED:20240326T130352Z
LAST-MODIFIED:20240923T070646Z
UID:6025-1727455500-1727539200@oegam.at
SUMMARY:ÖGAM - MODERATORENTRAINING für Qualitätszirkel im Gesundheitswesen
DESCRIPTION:Die Absolvierung des Moderatorentrainings\, Module 1-3\, berechtigt die Teilnehmer:innen einen QZ zu leiten \n\n\n\n\n\nLinz\, Hotel Courtyard by Marriott \n\n\n\n \n\n\n\nGrundlagen der Qualitätsförderung und Einführung in die QZ-Arbeit \n\n\n\nRolle der Moderation und Gruppendynamik \n\n\n\nGründung\, Aufbau und Organisation von QZ \n\n\n\nAnmeldung via Formular: \n\n\n\n\n\n\n\n\n\n2024.09_MT_Linz_ProgrammHerunterladen\n\n\n\n2024.09_MT_Linz_AnmeldungHerunterladen
URL:https://oegam.at/veranstaltungen/oegam-moderatorentraining-fuer-qualitaetszirkel-im-gesundheitswesen-2/
END:VEVENT
END:VCALENDAR